1.0000000000
0.0000000000
0.0000000000
-1.0000000000
307613.5000000000
4638787.5000000000
