1.0000000000
0.0000000000
0.0000000000
-1.0000000000
317996.5000000000
4638515.5000000000
