1.0000000000
0.0000000000
0.0000000000
-1.0000000000
312804.5000000000
4638649.5000000000
