1.0000000000
0.0000000000
0.0000000000
-1.0000000000
317819.5000000000
4631575.5000000000
