1.0000000000
0.0000000000
0.0000000000
-1.0000000000
328379.5000000000
4638258.5000000000
