1.0000000000
0.0000000000
0.0000000000
-1.0000000000
323188.5000000000
4638385.5000000000
