1.0000000000
0.0000000000
0.0000000000
-1.0000000000
328213.5000000000
4631318.5000000000
