1.0000000000
0.0000000000
0.0000000000
-1.0000000000
255220.5000000000
4626495.5000000000
