1.0000000000
0.0000000000
0.0000000000
-1.0000000000
249776.5000000000
4619734.5000000000
