1.0000000000
0.0000000000
0.0000000000
-1.0000000000
260422.5000000000
4626319.5000000000
