1.0000000000
0.0000000000
0.0000000000
-1.0000000000
276028.5000000000
4625814.5000000000
