1.0000000000
0.0000000000
0.0000000000
-1.0000000000
270604.5000000000
4619039.5000000000
