1.0000000000
0.0000000000
0.0000000000
-1.0000000000
286432.5000000000
4625497.5000000000
