1.0000000000
0.0000000000
0.0000000000
-1.0000000000
286225.5000000000
4618557.5000000000
