1.0000000000
0.0000000000
0.0000000000
-1.0000000000
296836.5000000000
4625195.5000000000
