1.0000000000
0.0000000000
0.0000000000
-1.0000000000
307053.5000000000
4617968.5000000000
