1.0000000000
0.0000000000
0.0000000000
-1.0000000000
301846.5000000000
4618110.5000000000
