1.0000000000
0.0000000000
0.0000000000
-1.0000000000
317643.5000000000
4624636.5000000000
