1.0000000000
0.0000000000
0.0000000000
-1.0000000000
317467.5000000000
4617696.5000000000
