1.0000000000
0.0000000000
0.0000000000
-1.0000000000
327881.5000000000
4617439.5000000000
