1.0000000000
0.0000000000
0.0000000000
-1.0000000000
249534.5000000000
4612794.5000000000
