1.0000000000
0.0000000000
0.0000000000
-1.0000000000
254510.5000000000
4605675.5000000000
