1.0000000000
0.0000000000
0.0000000000
-1.0000000000
670511.5000000000
4652268.5000000000
