1.0000000000
0.0000000000
0.0000000000
-1.0000000000
670678.5000000000
4645329.5000000000
