1.0000000000
0.0000000000
0.0000000000
-1.0000000000
665496.5000000000
4645202.5000000000
