1.0000000000
0.0000000000
0.0000000000
-1.0000000000
680864.5000000000
4652533.5000000000
