1.0000000000
0.0000000000
0.0000000000
-1.0000000000
675687.5000000000
4652399.5000000000
