1.0000000000
0.0000000000
0.0000000000
-1.0000000000
691217.5000000000
4652812.5000000000
