1.0000000000
0.0000000000
0.0000000000
-1.0000000000
686040.5000000000
4652671.5000000000
