1.0000000000
0.0000000000
0.0000000000
-1.0000000000
691404.5000000000
4645872.5000000000
