1.0000000000
0.0000000000
0.0000000000
-1.0000000000
701767.5000000000
4646167.5000000000
