1.0000000000
0.0000000000
0.0000000000
-1.0000000000
696586.5000000000
4646018.5000000000
