1.0000000000
0.0000000000
0.0000000000
-1.0000000000
712131.5000000000
4646477.5000000000
