1.0000000000
0.0000000000
0.0000000000
-1.0000000000
717100.5000000000
4653578.5000000000
