1.0000000000
0.0000000000
0.0000000000
-1.0000000000
742984.5000000000
4654438.5000000000
