1.0000000000
0.0000000000
0.0000000000
-1.0000000000
737807.5000000000
4654258.5000000000
