1.0000000000
0.0000000000
0.0000000000
-1.0000000000
738040.5000000000
4647318.5000000000
