1.0000000000
0.0000000000
0.0000000000
-1.0000000000
670845.5000000000
4638389.5000000000
