1.0000000000
0.0000000000
0.0000000000
-1.0000000000
665658.5000000000
4638262.5000000000
