1.0000000000
0.0000000000
0.0000000000
-1.0000000000
671012.5000000000
4631449.5000000000
