1.0000000000
0.0000000000
0.0000000000
-1.0000000000
665820.5000000000
4631323.5000000000
