1.0000000000
0.0000000000
0.0000000000
-1.0000000000
681218.5000000000
4638653.5000000000
