1.0000000000
0.0000000000
0.0000000000
-1.0000000000
681395.5000000000
4631713.5000000000
