1.0000000000
0.0000000000
0.0000000000
-1.0000000000
676203.5000000000
4631579.5000000000
