1.0000000000
0.0000000000
0.0000000000
-1.0000000000
691591.5000000000
4638933.5000000000
