1.0000000000
0.0000000000
0.0000000000
-1.0000000000
686405.5000000000
4638791.5000000000
