1.0000000000
0.0000000000
0.0000000000
-1.0000000000
691778.5000000000
4631993.5000000000
