1.0000000000
0.0000000000
0.0000000000
-1.0000000000
701965.5000000000
4639227.5000000000
