1.0000000000
0.0000000000
0.0000000000
-1.0000000000
696778.5000000000
4639078.5000000000
