1.0000000000
0.0000000000
0.0000000000
-1.0000000000
696970.5000000000
4632138.5000000000
